BEGIN:VCALENDAR
VERSION:2.0
PRODID:-//ExpressionEngine Easy iCalendar plugin//NONSGML v2.0.1//EN
X-WR-TIMEZONE:America/New_York
X-WR-CALNAME:Upcoming Auctions
BEGIN:VEVENT
UID:100141
DTSTAMP:20230428T130000
DTSTART:20230428T130000
DTEND:20230531T130000
SUMMARY:Beautiful Brick Home On Large Lot In Mint Spring VA
LOCATION:5 Springfield Lane\, Staunton\, VA 24401\, US
DESCRIPTION:To settle the estate of the late Bennie and Gloria Hildebran
 d\, we are offering at online auction the real estate and im
 provements located at 5 Springfield Lane\, Staunton VA 24401.
  This beautiful custom designed and built brick home sits on
  a large 1.1 +/- acre corner lot in a desirable part of Augu
 sta County VA. This home features almost 3\,000 sq ft of sin
 gle level living space with 3 bedrooms\, 2 1/2 baths and o
 versize two car garage. This property is conveniently locate
 d near the I-81/I-64 interchange at Mint Spring. This online
  only auction will close May 31\, 2023 @ 1:00 PM.
URL:https://mountainvalleyauctions.bwwsstaging.com/auctions/deta
 il/bw100141
SEQUENCE:1
END:VEVENT
END:VCALENDAR