BEGIN:VCALENDAR
VERSION:2.0
PRODID:-//ExpressionEngine Easy iCalendar plugin//NONSGML v2.0.1//EN
X-WR-TIMEZONE:America/New_York
X-WR-CALNAME:Upcoming Auctions
BEGIN:VEVENT
UID:101599
DTSTAMP:20230524T213000
DTSTART:20230524T213000
DTEND:20230605T200000
SUMMARY:Ammunition & Accessories Auction
LOCATION:2177 Tinkling Spring Rd\, Stuarts Draft\, VA 24477\, US
DESCRIPTION:Need ammunition and accessories? Check out the ammunition a
 uction.This online only auction is being held in partnership
  with Enlisted Auctions and is hosted on their website. Prev
 iew and pickup will be at 2177 Tinkling Spring Rd\, Stuarts 
 Draft\, Va\, 24477\,  Auction closes Monday June 5 @ 8:00 PM.
URL:https://mountainvalleyauctions.bwwsstaging.com/auctions/deta
 il/bw101599
SEQUENCE:1
END:VEVENT
END:VCALENDAR