BEGIN:VCALENDAR
VERSION:2.0
PRODID:-//ExpressionEngine Easy iCalendar plugin//NONSGML v2.0.1//EN
X-WR-TIMEZONE:America/New_York
X-WR-CALNAME:Upcoming Auctions
BEGIN:VEVENT
UID:101602
DTSTAMP:20230525T130000
DTSTART:20230525T130000
DTEND:20230615T130000
SUMMARY:Three Parcels\, Two Houses\, One Price\, In Churchville VA
LOCATION:3725 Churchville Ave\, Churchville\, VA 24421\, US
DESCRIPTION:We are offering at online auction the real estate and impro
 vements located at 3725 and 3743 Churchville Ave\, Churchvill
 e VA 24421. This property is 2.47+/- acres in three adjoinin
 g tax map parcels improved by two separate dwellings. This i
 s all being sold together for one price. This property is co
 nveniently located in the town of Churchville just minutes a
 way from the city of Staunton and I-81. This online only auc
 tion will close June 15\, 2023 @ 1:00 PM.
URL:https://mountainvalleyauctions.bwwsstaging.com/auctions/deta
 il/bw101602
SEQUENCE:1
END:VEVENT
END:VCALENDAR