BEGIN:VCALENDAR
VERSION:2.0
PRODID:-//ExpressionEngine Easy iCalendar plugin//NONSGML v2.0.1//EN
X-WR-TIMEZONE:America/New_York
X-WR-CALNAME:Upcoming Auctions
BEGIN:VEVENT
UID:102074
DTSTAMP:20230624T090000
DTSTART:20230624T090000
DTEND:20230624T100000
SUMMARY:Glenn and Joy Darnell Estate Auction
LOCATION:2597 Moyers Gap Rd\, Sugar Grove\, WV 26815\, US
DESCRIPTION:This will be a good old fashioned live country auction wit
 h no online bidding available. It will be held at the home o
 f the late Glenn and Joy Darnell near Moyers WV. In this au
 ction you will find lots of tools\, antiques\, furniture\, coll
 ectibles\, household items\, and a 2003 GMC Envoy. Come prepar
 ed to stay into the afternoon as we have lots of good items 
 to sell.  Food will be served by the St John's Lutheran Chu
 rch. The auction will begin Saturday June 24 at 9 AM.
URL:https://mountainvalleyauctions.bwwsstaging.com/auctions/deta
 il/bw102074
SEQUENCE:1
END:VEVENT
END:VCALENDAR