BEGIN:VCALENDAR
VERSION:2.0
PRODID:-//ExpressionEngine Easy iCalendar plugin//NONSGML v2.0.1//EN
X-WR-TIMEZONE:America/New_York
X-WR-CALNAME:Upcoming Auctions
BEGIN:VEVENT
UID:102281
DTSTAMP:20230701T170000
DTSTART:20230701T170000
DTEND:20231127T190000
SUMMARY:Christmas Auction
LOCATION:5009 Greenbranch St\, Partlow\, VA 22534\, US
DESCRIPTION:We are selling a large collection of Christmas ornaments\, na
 tivities\, figures\, decorations\, snow globes\, music boxes\, an
 d serving items. Everything from nutcrackers to art glass an
 d vintage tree ornaments from manufacturers like Lenox\, Pipk
 a\, Hallmark\, Jim Shore\, Matrix\, Kunstlerschutz\, Harry and D
 avid\, Mikasa\, Kurt Adler\, and Artland. This online only auc
 tion closes November 27\, 2023 beginning @ 7 PM. Shipping A
 vailable\, Preview and Pickup In Spotsylvania County VA.
URL:https://mountainvalleyauctions.bwwsstaging.com/auctions/deta
 il/bw102281
SEQUENCE:1
END:VEVENT
END:VCALENDAR