BEGIN:VCALENDAR
VERSION:2.0
PRODID:-//ExpressionEngine Easy iCalendar plugin//NONSGML v2.0.1//EN
X-WR-TIMEZONE:America/New_York
X-WR-CALNAME:Upcoming Auctions
BEGIN:VEVENT
UID:102282
DTSTAMP:20231015T190000
DTSTART:20231015T190000
DTEND:20231101T190000
SUMMARY:Vintage Electronics and Media Auction
LOCATION:2800 Lewiston Rd\, Bumpass\, VA 23024\, US
DESCRIPTION:In this auction you will find vintage electronics such as vi
 deo game controllers\, audio and stereo equipment\, typewriter
 s\, computers\, and photography equipment. In addition there 
 are lots of vinyl records\, video games\, VHS and DVD movies\, 
 8 track and cassette tapes. This online only auction closes
  November 1\, 2023 beginning @ 7 PM. Shipping available for
  small items. Preview and Pickup In Spotsylvania County VA.
URL:https://mountainvalleyauctions.bwwsstaging.com/auctions/deta
 il/bw102282
SEQUENCE:1
END:VEVENT
END:VCALENDAR