BEGIN:VCALENDAR
VERSION:2.0
PRODID:-//ExpressionEngine Easy iCalendar plugin//NONSGML v2.0.1//EN
X-WR-TIMEZONE:America/New_York
X-WR-CALNAME:Upcoming Auctions
BEGIN:VEVENT
UID:102873
DTSTAMP:20230630T070000
DTSTART:20230630T070000
DTEND:20230719T190000
SUMMARY:John King Estate Auction
LOCATION:7354 Auburn Mill Rd\, Warrenton\, VA 20187\, US
DESCRIPTION:Online only auction for the John King Estate in Warrenton VA
  including 1998 Toyota pickup\, woodworking shop equipment an
 d tools\, John Deere garden tractors and other lawn and garde
 n items\, furniture\, collectibles\, art\, and general household
  items. This auction closes on July 19 with pickup on July 2
 1 and 22.
URL:https://mountainvalleyauctions.bwwsstaging.com/auctions/deta
 il/bw102873
SEQUENCE:1
END:VEVENT
END:VCALENDAR