BEGIN:VCALENDAR
VERSION:2.0
PRODID:-//ExpressionEngine Easy iCalendar plugin//NONSGML v2.0.1//EN
X-WR-TIMEZONE:America/New_York
X-WR-CALNAME:Upcoming Auctions
BEGIN:VEVENT
UID:103356
DTSTAMP:20230626T130000
DTSTART:20230626T130000
DTEND:20230802T130000
SUMMARY:Two Bay Car Wash Facility In Craigsville VA
LOCATION:124 W Craig St\, Craigsville\, VA 24430\, US
DESCRIPTION:We are offering at online auction the real estate and impro
 vements located at 124 W Craig St\, Craigsville VA. This prop
 erty is 0.49 +/- acres improved by a two bay car wash faci
 lity. Included in this auction is the equipment and spare pa
 rts for operating the car wash. This is the only car wash f
 or over 20 miles in any direction. Don't miss your opportuni
 ty to own income producing real estate. This online only auc
 tion will close at 1 PM on August 2\, 2023.
URL:https://mountainvalleyauctions.bwwsstaging.com/auctions/deta
 il/bw103356
SEQUENCE:1
END:VEVENT
END:VCALENDAR