BEGIN:VCALENDAR
VERSION:2.0
PRODID:-//ExpressionEngine Easy iCalendar plugin//NONSGML v2.0.1//EN
X-WR-TIMEZONE:America/New_York
X-WR-CALNAME:Upcoming Auctions
BEGIN:VEVENT
UID:103528
DTSTAMP:20230629T130000
DTSTART:20230629T130000
DTEND:20230809T130000
SUMMARY:Two Commercial Properties In Mt Sidney VA
LOCATION:2552 Lee Highway\, Mt Sidney\, VA 24467\, US
DESCRIPTION:We are offering at online auction the real estate and impro
 vements located at 2542 and 2552 Lee Highway\, Mt Sidney VA. 
 This property is being offered in two separate tracts. Tract
  #1 is 0.612 +/- Acres with a 1\,040 sq ft commercial buildi
 ng at 2542 Lee Hwy. Tract #2 is 1.969 +/- acres with a 7\,22
 9 sq ft commercial building at 2552 Lee Hwy. These properti
 es are zoned General Business and are well suited for a wid
 e variety of commercial uses.
URL:https://mountainvalleyauctions.bwwsstaging.com/auctions/deta
 il/bw103528
SEQUENCE:1
END:VEVENT
END:VCALENDAR