BEGIN:VCALENDAR
VERSION:2.0
PRODID:-//ExpressionEngine Easy iCalendar plugin//NONSGML v2.0.1//EN
X-WR-TIMEZONE:America/New_York
X-WR-CALNAME:Upcoming Auctions
BEGIN:VEVENT
UID:103563
DTSTAMP:20230629T200000
DTSTART:20230629T200000
DTEND:20230712T200000
SUMMARY:July Firearms Auction
LOCATION:2177 Tinkling Spring Rd\, Stuarts Draft\, VA 24477\, US
DESCRIPTION:Rifles\, Shotguns\, Handguns\, Muzzleloaders\, And More. 335 fi
 rearms for sale to the highest bidder! In this auction we h
 ave some very hard to find and collectible guns. Everything 
 from antique military firearms and Winchester lever action 
 rifles to modern sporting rifles\, hunting rifles\, and handg
 uns. This online only auction is being held in partnership 
 with Enlisted Auctions and is hosted on their website. Previ
 ew and pickup will be at 2177 Tinkling Spring Rd\, Stuarts D
 raft\, Va\, 24477\,  Auction closes Wednesday July 12 @ 8:00 P
 M.
URL:https://mountainvalleyauctions.bwwsstaging.com/auctions/deta
 il/bw103563
SEQUENCE:1
END:VEVENT
END:VCALENDAR