BEGIN:VCALENDAR
VERSION:2.0
PRODID:-//ExpressionEngine Easy iCalendar plugin//NONSGML v2.0.1//EN
X-WR-TIMEZONE:America/New_York
X-WR-CALNAME:Upcoming Auctions
BEGIN:VEVENT
UID:103630
DTSTAMP:20230630T200000
DTSTART:20230630T200000
DTEND:20230712T200000
SUMMARY:Ammunition & Accessories Auction
LOCATION:2177 Tinkling Spring Rd\, Stuarts Draft\, VA 24477\, US
DESCRIPTION:Need ammunition or accessories? Check out the ammunition au
 ction. Thousands of rounds in a wide variety of calibers. Sc
 opes\, Magazines\, Knives and reloading tools. This online onl
 y auction is being held in partnership with Enlisted Auction
 s and is hosted on their website. Preview and pickup will be
  at 2177 Tinkling Spring Rd\, Stuarts Draft\, Va\, 24477\,  Au
 ction closes Wednesday July 12 @ 8:00 PM.
URL:https://mountainvalleyauctions.bwwsstaging.com/auctions/deta
 il/bw103630
SEQUENCE:1
END:VEVENT
END:VCALENDAR