BEGIN:VCALENDAR
VERSION:2.0
PRODID:-//ExpressionEngine Easy iCalendar plugin//NONSGML v2.0.1//EN
X-WR-TIMEZONE:America/New_York
X-WR-CALNAME:Upcoming Auctions
BEGIN:VEVENT
UID:103819
DTSTAMP:20230706T130000
DTSTART:20230706T130000
DTEND:20230810T130000
SUMMARY:Lake Anna Waterfront Property
LOCATION:3901 Water Front Ct\, Bumpass\, VA 23024\, US
DESCRIPTION:We are offering at online auction the real estate located 
 at 3901 Water Front Court\, Bumpass VA 23024. This property i
 s lot #13 with 1.18 +/- acres and over 200 ft of waterfron
 tage on Lake Anna in the Sycamore Shoals Subdivision. Don't 
 miss this opportunity to buy a hard to find lakefront buildi
 ng lot on Lake Anna. This online only auction will close at 
 1 PM on August 10\, 2023.
URL:https://mountainvalleyauctions.bwwsstaging.com/auctions/deta
 il/bw103819
SEQUENCE:1
END:VEVENT
END:VCALENDAR