BEGIN:VCALENDAR
VERSION:2.0
PRODID:-//ExpressionEngine Easy iCalendar plugin//NONSGML v2.0.1//EN
X-WR-TIMEZONE:America/New_York
X-WR-CALNAME:Upcoming Auctions
BEGIN:VEVENT
UID:104736
DTSTAMP:20230805T190000
DTSTART:20230805T190000
DTEND:20230914T190000
SUMMARY:Northern VA Fall Equipment Consignment Auction
LOCATION:3154 Gaskins Ln\, Catlett\, VA 20119\, US
DESCRIPTION:Consignment auction featuring agricultural\, heavy equipment\,
  construction equipment and tools\, vehicles\, trucks\, trailer
 s\, and powersports. This auction is being held at 3154 Gaski
 ns Ln\, Catlett VA 20119. Call or message us if you have vehi
 cles\, equipment\, farm machinery or tools to sell. Consignmen
 t deadline is Wednesday\, September 13\, 2023 at 5:00 PM.
URL:https://mountainvalleyauctions.bwwsstaging.com/auctions/deta
 il/bw104736
SEQUENCE:1
END:VEVENT
END:VCALENDAR