BEGIN:VCALENDAR
VERSION:2.0
PRODID:-//ExpressionEngine Easy iCalendar plugin//NONSGML v2.0.1//EN
X-WR-TIMEZONE:America/New_York
X-WR-CALNAME:Upcoming Auctions
BEGIN:VEVENT
UID:105236
DTSTAMP:20231130T190000
DTSTART:20231130T190000
DTEND:20231214T190000
SUMMARY:Sports Memorabilia and Collectibles Auction
LOCATION:350 Bowman Road\, Dayton\, VA 22821\, US
DESCRIPTION:From the estate of Brady Grim and others we are bringing you
  a large collection of baseball cards and balls\, NASCAR\, hoc
 key\, and football collectibles and wearables. This is an onl
 ine only auction that closes on December 14.  Shipping is a
 vailable nationwide.
URL:https://mountainvalleyauctions.bwwsstaging.com/auctions/deta
 il/bw105236
SEQUENCE:1
END:VEVENT
END:VCALENDAR