BEGIN:VCALENDAR
VERSION:2.0
PRODID:-//ExpressionEngine Easy iCalendar plugin//NONSGML v2.0.1//EN
X-WR-TIMEZONE:America/New_York
X-WR-CALNAME:Upcoming Auctions
BEGIN:VEVENT
UID:105548
DTSTAMP:20230909T130000
DTSTART:20230909T130000
DTEND:20230909T140000
SUMMARY:VA Is For Boer Goat Lovers Sale
LOCATION:4808 S Valley Pike\, Harrisonburg\, VA 22801\, US
DESCRIPTION:Boer Goat Auction Featuring 100+ full blood and percentage B
 oer Goats from some of the best breeders in the country. Thi
 s is a simulcast auction with live and online bidding.
URL:https://mountainvalleyauctions.bwwsstaging.com/auctions/deta
 il/bw105548
SEQUENCE:1
END:VEVENT
END:VCALENDAR