BEGIN:VCALENDAR
VERSION:2.0
PRODID:-//ExpressionEngine Easy iCalendar plugin//NONSGML v2.0.1//EN
X-WR-TIMEZONE:America/New_York
X-WR-CALNAME:Upcoming Auctions
BEGIN:VEVENT
UID:105549
DTSTAMP:20230912T080000
DTSTART:20230912T080000
DTEND:20231019T190000
SUMMARY:Shenandoah Valley Fall Consignment Auction
LOCATION:10298 McGaheysville Rd\, McGaheysville\, VA 22840\, US
DESCRIPTION:Fall Consignment Auction featuring agricultural\, heavy equip
 ment\, construction equipment and tools\, vehicles\, trucks\, tr
 ailers\, and powersports. This auction is being held at 10298
  McGaheysville Rd\, McGaheysville VA 22840. Lot is full! Plea
 se do not bring more consignments unless you have talked to 
 us about them already or call before you come. Bidding clos
 es October 19 beginning at 7 PM. Item pickup is Oct 20\,21\, a
 nd 23 from 9 AM to 6 PM.
URL:https://mountainvalleyauctions.bwwsstaging.com/auctions/deta
 il/bw105549
SEQUENCE:1
END:VEVENT
END:VCALENDAR