BEGIN:VCALENDAR
VERSION:2.0
PRODID:-//ExpressionEngine Easy iCalendar plugin//NONSGML v2.0.1//EN
X-WR-TIMEZONE:America/New_York
X-WR-CALNAME:Upcoming Auctions
BEGIN:VEVENT
UID:105636
DTSTAMP:20230903T070000
DTSTART:20230903T070000
DTEND:20230926T190000
SUMMARY:Woodworking Shop Equipment And Tools
LOCATION:4124 Cross Keys Road\, Mt Crawford\, VA 22841\, US
DESCRIPTION:We are selling the contents of Mr. Carrol Hinegardner's woo
 dworking shop which is full of well kept Grizzly and Crafts
 man equipment as well as hand tools\, power tools\, and lawn
  and garden equipment. You won't find nicer or cleaner equip
 ment anywhere. This Online Only Auction Closes September 27
  @ 7:00 PM.
URL:https://mountainvalleyauctions.bwwsstaging.com/auctions/deta
 il/bw105636
SEQUENCE:1
END:VEVENT
END:VCALENDAR