BEGIN:VCALENDAR
VERSION:2.0
PRODID:-//ExpressionEngine Easy iCalendar plugin//NONSGML v2.0.1//EN
X-WR-TIMEZONE:America/New_York
X-WR-CALNAME:Upcoming Auctions
BEGIN:VEVENT
UID:105846
DTSTAMP:20230810T170000
DTSTART:20230810T170000
DTEND:20230920T130000
SUMMARY:Two Commercial Lots Near Staunton VA
LOCATION:0 Fairway Lane\, Staunton\, VA 24482\, US
DESCRIPTION:We are offering at online auction the real estate located 
 on Fairway Lane\, Staunton VA 24482. This Augusta County VA 
 property is being offered in two separate tracts. Tract #1 i
 s 2.244 +/- acres beginning at the corner of Fairway Lane a
 nd Country Club Road and situated between Fairway Lane and 
 the Woodrow Wilson Parkway. Tract #2 is 1.755 +/- acres be
 tween Fairway Lane and the Woodrow Wilson Parkway. These pr
 operties are zoned PUD/Limited Business and are well suited
  for a variety of business uses with great access and visibi
 lity.
URL:https://mountainvalleyauctions.bwwsstaging.com/auctions/deta
 il/bw105846
SEQUENCE:1
END:VEVENT
END:VCALENDAR