BEGIN:VCALENDAR
VERSION:2.0
PRODID:-//ExpressionEngine Easy iCalendar plugin//NONSGML v2.0.1//EN
X-WR-TIMEZONE:America/New_York
X-WR-CALNAME:Upcoming Auctions
BEGIN:VEVENT
UID:105855
DTSTAMP:20230810T190000
DTSTART:20230810T190000
DTEND:20230927T130000
SUMMARY:Top Of The Mountain - 55 Acres Zoned SF Residential In Mount
  Sidney VA
LOCATION:Valley View Avenue\, Mount Sidney\, VA 24467\, US
DESCRIPTION:Unlock a world of potential atop Mt Sidney\, Virginia. This 5
 5-acre property has been in the same family for over 100 yea
 rs and now offers a unique once in a lifetime opportunity fo
 r visionary buyers. This property is comprised of three tax
  map parcels that are being sold as one tract totaling 55+/-
  acres. It is primarily zoned Single Family Residential with
  potential for development. This online only auction will c
 lose at 1 PM on September 27\, 2023
URL:https://mountainvalleyauctions.bwwsstaging.com/auctions/deta
 il/bw105855
SEQUENCE:1
END:VEVENT
END:VCALENDAR