BEGIN:VCALENDAR
VERSION:2.0
PRODID:-//ExpressionEngine Easy iCalendar plugin//NONSGML v2.0.1//EN
X-WR-TIMEZONE:America/New_York
X-WR-CALNAME:Upcoming Auctions
BEGIN:VEVENT
UID:106433
DTSTAMP:20230912T070000
DTSTART:20230912T070000
DTEND:20230927T190000
SUMMARY:Treasure Hunt!
LOCATION:2800 Lewiston Rd\, Bumpass\, VA 23024\, US
DESCRIPTION:You are sure to find some treasure in this auction which fea
 tures a wide variety of personal property items like furnitu
 re\, toys\, antiques\, musical instruments\, household furnishin
 gs\, and tools. Additional items will be added right up until
  the auction closes so check back often. This online only au
 ction closes September 27\, 2023 beginning @ 7 PM. Shipping
  available for small items. Preview and Pickup In Spotsylva
 nia County VA.
URL:https://mountainvalleyauctions.bwwsstaging.com/auctions/deta
 il/bw106433
SEQUENCE:1
END:VEVENT
END:VCALENDAR