BEGIN:VCALENDAR
VERSION:2.0
PRODID:-//ExpressionEngine Easy iCalendar plugin//NONSGML v2.0.1//EN
X-WR-TIMEZONE:America/New_York
X-WR-CALNAME:Upcoming Auctions
BEGIN:VEVENT
UID:108982
DTSTAMP:20231018T190000
DTSTART:20231018T190000
DTEND:20231116T190000
SUMMARY:Midland VA Estate Auction
LOCATION:11312 Timbuktu Lane\, Midland\, VA 22728\, US
DESCRIPTION:Online only auction for a Midland VA area estate that inclu
 des a John Deere 4050\, Toyota Avalon\, EZ Go Golf Cart\, woodw
 orking shop equipment and tools\, antiques\, furniture\, colle
 ctibles\, art\, and general household items. This auction clos
 es on November 16 with pickup on November17 and 18.
URL:https://mountainvalleyauctions.bwwsstaging.com/auctions/deta
 il/bw108982
SEQUENCE:1
END:VEVENT
END:VCALENDAR