BEGIN:VCALENDAR
VERSION:2.0
PRODID:-//ExpressionEngine Easy iCalendar plugin//NONSGML v2.0.1//EN
X-WR-TIMEZONE:America/New_York
X-WR-CALNAME:Upcoming Auctions
BEGIN:VEVENT
UID:109067
DTSTAMP:20231005T130000
DTSTART:20231005T130000
DTEND:20231101T130000
SUMMARY:Four Acre Building Lot In Rockingham County
LOCATION:Grassland Lane\, Rockingham\, VA 22802\, US
DESCRIPTION:We are offering at online auction real estate located on Gra
 ssland Lane\, Rockingham VA 22802.  This 4.037 +/- acre buil
 ding lot is zoned A2 and is located on a quiet private road 
 just minutes from I-81 and the town of Broadway. This online
  only auction will close at 1 PM on November 1\, 2023.
URL:https://mountainvalleyauctions.bwwsstaging.com/auctions/deta
 il/bw109067
SEQUENCE:1
END:VEVENT
END:VCALENDAR