BEGIN:VCALENDAR
VERSION:2.0
PRODID:-//ExpressionEngine Easy iCalendar plugin//NONSGML v2.0.1//EN
X-WR-TIMEZONE:America/New_York
X-WR-CALNAME:Upcoming Auctions
BEGIN:VEVENT
UID:109326
DTSTAMP:20231010T090000
DTSTART:20231010T090000
DTEND:20231108T130000
SUMMARY:Commercial Property In Weyers Cave VA
LOCATION:Valley College Circle\, Weyers Cave\, VA 24486\, US
DESCRIPTION:We are offering at online auction the real estate located 
 at the corner of Lee Highway (Rt 11) and Valley College Circ
 le in Weyers Cave VA. This 0.99 +/- acre property Augusta Co
 unty VA property is zoned General Business and is well suit
 ed for a variety of retail and commercial uses. It is locate
 d on a high traffic corner right off I-81 at exit 235. Rece
 nt residential and commercial development have made this an 
 attractive area for new business. Get in on this great oppor
 tunity!
URL:https://mountainvalleyauctions.bwwsstaging.com/auctions/deta
 il/bw109326
SEQUENCE:1
END:VEVENT
END:VCALENDAR