BEGIN:VCALENDAR
VERSION:2.0
PRODID:-//ExpressionEngine Easy iCalendar plugin//NONSGML v2.0.1//EN
X-WR-TIMEZONE:America/New_York
X-WR-CALNAME:Upcoming Auctions
BEGIN:VEVENT
UID:110333
DTSTAMP:20231029T130000
DTSTART:20231029T130000
DTEND:20231129T130000
SUMMARY:Five Acres Of Residential Land In City Of Staunton
LOCATION:700 Fisher Circle\, Staunton\, VA 24401\, US
DESCRIPTION:We are offering at online auction the real estate located at
  700 Fisher Circle\, Staunton VA. This 5.27 +/- acre property
  is in the Greenspring Valley Subdivision and is zoned R2.
  It is being sold to the highest bidder regardless of price 
 to benefit Creative Works Farm and Camp Light - a day camp f
 or special needs and at risk youth. This online only auctio
 n will close at 1 PM on November 29\, 2023.
URL:https://mountainvalleyauctions.bwwsstaging.com/auctions/deta
 il/bw110333
SEQUENCE:1
END:VEVENT
END:VCALENDAR