BEGIN:VCALENDAR
VERSION:2.0
PRODID:-//ExpressionEngine Easy iCalendar plugin//NONSGML v2.0.1//EN
X-WR-TIMEZONE:America/New_York
X-WR-CALNAME:Upcoming Auctions
BEGIN:VEVENT
UID:110489
DTSTAMP:20231121T190000
DTSTART:20231121T190000
DTEND:20231212T190000
SUMMARY:Tools and Toys Auction
LOCATION:2668 Minie Ball Lane\, Keezletown\, VA 22832\, US
DESCRIPTION:Online only auction for the Armentrout Estate in Keezletown 
 VA that includes an EZ Go Golf Cart\, wood and metal working
  tools\, large anvil and bench vises\, pallet racking\, along 
 with toys and collectibles such as Winross and Ertl trucks\, 
 NASCAR and diecast models\, milk bottles\, antique hay trolley
  and more. This auction closes on December 12 beginning at
  7 PM with pickup on December 13.
URL:https://mountainvalleyauctions.bwwsstaging.com/auctions/deta
 il/bw110489
SEQUENCE:1
END:VEVENT
END:VCALENDAR