BEGIN:VCALENDAR
VERSION:2.0
PRODID:-//ExpressionEngine Easy iCalendar plugin//NONSGML v2.0.1//EN
X-WR-TIMEZONE:America/New_York
X-WR-CALNAME:Upcoming Auctions
BEGIN:VEVENT
UID:111293
DTSTAMP:20231115T190000
DTSTART:20231115T190000
DTEND:20231212T190000
SUMMARY:Pendleton Senior and Family Services Fundraiser
LOCATION:231 Mill Road\, Franklin\, WV 26807\, US
DESCRIPTION:This is an online auction benefiting Pendleton Senior and Fa
 mily Services Inc in Franklin WV. Proceeds will go to direct
 ly support programs such as nutrition and medical transporta
 tion assistance for low income seniors citizens and disabled
  individuals in Pendleton County WV.  The items being sold 
 were created by local artists for an art contest and made 
 from wood pallets. Bidding will close at 7 PM December 12\, 
 2023
URL:https://mountainvalleyauctions.bwwsstaging.com/auctions/deta
 il/bw111293
SEQUENCE:1
END:VEVENT
END:VCALENDAR