BEGIN:VCALENDAR
VERSION:2.0
PRODID:-//ExpressionEngine Easy iCalendar plugin//NONSGML v2.0.1//EN
X-WR-TIMEZONE:America/New_York
X-WR-CALNAME:Upcoming Auctions
BEGIN:VEVENT
UID:111924
DTSTAMP:20240101T110000
DTSTART:20240101T110000
DTEND:20240101T120000
SUMMARY:Helmuth Builders New Year 2024 Shed Auction
LOCATION:4309 South Valley Pike\, Harrisonburg\, VA 22801\, US
DESCRIPTION:Helmuth Builders is once again holding their annual New Year
 s Day Shed Auction. Name your price on a Helmuth Builders sh
 ed\, lawn furniture\, and more! Plus give-aways and fun for t
 he whole family. We are giving away a 10x16x7 Windsor buildi
 ng and other great prizes. you must be present in person to 
 win. This will be a live and online simulcast auction starti
 ng at 11:00 AM on New Years Day.  
URL:https://mountainvalleyauctions.bwwsstaging.com/auctions/deta
 il/bw111924
SEQUENCE:1
END:VEVENT
END:VCALENDAR