BEGIN:VCALENDAR
VERSION:2.0
PRODID:-//ExpressionEngine Easy iCalendar plugin//NONSGML v2.0.1//EN
X-WR-TIMEZONE:America/New_York
X-WR-CALNAME:Upcoming Auctions
BEGIN:VEVENT
UID:112369
DTSTAMP:20231218T170000
DTSTART:20231218T170000
DTEND:20240116T190000
SUMMARY:Model Railroad Auction
LOCATION:240 Claremont Ave\, Harrisonburg\, VA 22801\, US
DESCRIPTION:This auction isÂ for a collectionÂ of model railroad items f
 rom manufacturers like American Flyer\, Lionel\, Marx\, and mor
 e. We have prewar\, postwar\, and modern era trains in S Gauge
 \, O Gauge\, and HO scale.Â  These items come from a lifelongÂ
  model railroadÂ collector and are in very good condition.Â 
  This online auction will close on January 16 beginning at 7
  PM.
URL:https://mountainvalleyauctions.bwwsstaging.com/auctions/deta
 il/bw112369
SEQUENCE:1
END:VEVENT
END:VCALENDAR