BEGIN:VCALENDAR
VERSION:2.0
PRODID:-//ExpressionEngine Easy iCalendar plugin//NONSGML v2.0.1//EN
X-WR-TIMEZONE:America/New_York
X-WR-CALNAME:Upcoming Auctions
BEGIN:VEVENT
UID:113291
DTSTAMP:20240114T190000
DTSTART:20240114T190000
DTEND:20240130T190000
SUMMARY:Massanutten Area Downsizing Auction
LOCATION:2490 Hopkins Rd\, McGaheysville \, VA 22840\, US
DESCRIPTION:Online only auction for 1999 Chevrolet Suburban\, 2008 Honda 
 Civic\, lawn and garden items\, Kincaid cherry furniture\, fra
 med art from local artists\, and other household items.  Al
 l of these items come from a clean smoke free home. This 
 auction closes Tuesday January 30 with pickup on Wednesday 
 January 31\, 2024.
URL:https://mountainvalleyauctions.bwwsstaging.com/auctions/deta
 il/bw113291
SEQUENCE:1
END:VEVENT
END:VCALENDAR