BEGIN:VCALENDAR
VERSION:2.0
PRODID:-//ExpressionEngine Easy iCalendar plugin//NONSGML v2.0.1//EN
X-WR-TIMEZONE:America/New_York
X-WR-CALNAME:Upcoming Auctions
BEGIN:VEVENT
UID:113562
DTSTAMP:20240109T080000
DTSTART:20240109T080000
DTEND:20240314T190000
SUMMARY:Northern VA Spring Equipment Consignment Auction
LOCATION:3154 Gaskins Ln\, Catlett\, VA 20119\, US
DESCRIPTION:Consignment auction featuring agricultural\, heavy equipment\,
  construction equipment and tools\, vehicles\, trucks\, trailer
 s\, and powersports. This auction is being held at 3154 Gaski
 ns Ln\, Catlett VA 20119. No More Consignments Are Being Acce
 pted.
URL:https://mountainvalleyauctions.bwwsstaging.com/auctions/deta
 il/bw113562
SEQUENCE:1
END:VEVENT
END:VCALENDAR