BEGIN:VCALENDAR
VERSION:2.0
PRODID:-//ExpressionEngine Easy iCalendar plugin//NONSGML v2.0.1//EN
X-WR-TIMEZONE:America/New_York
X-WR-CALNAME:Upcoming Auctions
BEGIN:VEVENT
UID:115231
DTSTAMP:20240209T130000
DTSTART:20240209T130000
DTEND:20240319T130000
SUMMARY:Immaculate Custom Home With Amazing Views - Broadway VA
LOCATION:600 Showalter Ct\, Broadway\, VA 22815\, US
DESCRIPTION:We are offering at online auction the real estate and impro
 vements located at 600 Showalter Ct\, Broadway VA 22815. This
  spacious home sits on a 0.89 +/- acre beautifully landscap
 ed lot in the Broadmoor Village Subdivision. It offers incre
 dible long range views across the Shenandoah Valley to the m
 ountains in the west and features over 4\,000 sq ft of livi
 ng space. With 3 bedrooms\, 2 1/2 baths\, two decks\, screene
 d in porch\, family room\, and two garages\, this house has lot
 s to offer. It is in move in ready condition. The online o
 nly auction will close March 19\, 2024 @ 1:00 PM.
URL:https://mountainvalleyauctions.bwwsstaging.com/auctions/deta
 il/bw115231
SEQUENCE:1
END:VEVENT
END:VCALENDAR