BEGIN:VCALENDAR
VERSION:2.0
PRODID:-//ExpressionEngine Easy iCalendar plugin//NONSGML v2.0.1//EN
X-WR-TIMEZONE:America/New_York
X-WR-CALNAME:Upcoming Auctions
BEGIN:VEVENT
UID:116301
DTSTAMP:20240228T200000
DTSTART:20240228T200000
DTEND:20240313T200000
SUMMARY:March Firearms Auction
LOCATION:2177 Tinkling Spring Rd\, Stuarts Draft\, VA 24477\, US
DESCRIPTION:Rifles\, Shotguns\, Handguns\, Muzzleloaders\, And More. Over 40
 0 firearms for sale to the highest bidder! In this auction
  we have some very hard to find and collectible guns. Everyt
 hing from antique military firearms and Winchester lever ac
 tion rifles to modern sporting rifles\, hunting rifles\, and 
 handguns. This online only auction is being held in partner
 ship with Enlisted Auctions and is hosted on their website. 
 Preview and pickup will be at 2177 Tinkling Spring Rd\, Stua
 rts Draft\, VA\, 24477\,  Auction closes Wednesday March 13 @ 
 8:00 PM.
URL:https://mountainvalleyauctions.bwwsstaging.com/auctions/deta
 il/bw116301
SEQUENCE:1
END:VEVENT
END:VCALENDAR