BEGIN:VCALENDAR
VERSION:2.0
PRODID:-//ExpressionEngine Easy iCalendar plugin//NONSGML v2.0.1//EN
X-WR-TIMEZONE:America/New_York
X-WR-CALNAME:Upcoming Auctions
BEGIN:VEVENT
UID:116561
DTSTAMP:20240304T190000
DTSTART:20240304T190000
DTEND:20240516T190000
SUMMARY:Shenandoah Valley Spring Consignment Auction
LOCATION:10298 McGaheysville Rd\, McGaheysville\, VA 22840\, US
DESCRIPTION:Spring Consignment Auction featuring agricultural\, heavy equ
 ipment\, construction equipment and tools\, vehicles\, trucks\, 
 trailers\, and powersports. This auction is being held at 102
 98 McGaheysville Rd\, McGaheysville VA 22840. Call or messag
 e us if you have vehicles\, equipment\, farm machinery or tool
 s to sell. Lot is full! Bidding closes May 16 beginning at 7
  PM. Item pickup is May 17\, 18\, and 20 from 9 AM to 6 PM.
URL:https://mountainvalleyauctions.bwwsstaging.com/auctions/deta
 il/bw116561
SEQUENCE:1
END:VEVENT
END:VCALENDAR