BEGIN:VCALENDAR
VERSION:2.0
PRODID:-//ExpressionEngine Easy iCalendar plugin//NONSGML v2.0.1//EN
X-WR-TIMEZONE:America/New_York
X-WR-CALNAME:Upcoming Auctions
BEGIN:VEVENT
UID:116565
DTSTAMP:20240504T190000
DTSTART:20240504T190000
DTEND:20240504T200000
SUMMARY:Camp Light Benefit Auction
LOCATION:107 Creative Works Farm Ln\, Waynesboro\, VA 22980\, US
DESCRIPTION:Go back to the 50's with us! Join us for an evening of music
 \, happy hour\, dinner\, and a live auction. All proceeds benef
 it Camp LIGHT\, a summer camp for children with special needs
  and at risk youth. To learn more about Camp LIGHT\, visit ww
 w.campLIGHT.org  This is a simulcast live and online auctio
 n on May 4.  Event begins at 5 PM.  Auction starts at 7 PM
 .
URL:https://mountainvalleyauctions.bwwsstaging.com/auctions/deta
 il/bw116565
SEQUENCE:1
END:VEVENT
END:VCALENDAR