BEGIN:VCALENDAR
VERSION:2.0
PRODID:-//ExpressionEngine Easy iCalendar plugin//NONSGML v2.0.1//EN
X-WR-TIMEZONE:America/New_York
X-WR-CALNAME:Upcoming Auctions
BEGIN:VEVENT
UID:116910
DTSTAMP:20240311T130000
DTSTART:20240311T130000
DTEND:20240501T130000
SUMMARY:Six Tracts Of Mountain Land - Patrick County VA
LOCATION:TBD Old Hall Ridge Rd\, Stuart\, VA 24171\, US
DESCRIPTION:We are offering at online auction 145.7 +/- acres of land o
 n Bull Mountain in Patrick County VA. This property is being
  offered in six separate tracts ranging in size from 7 acre
 s to 45 acres. The property is situated along Old Hall Ridge
  Road and features world class panoramic views\, multiple sp
 rings and streams\, abundant wildlife and recreational opport
 unities\, interior roads\, and potential cabin or home sites o
 n each tract. Even more recreational options are nearby with
  less than 10 miles to Fairystone State Park and Philpott L
 ake\, 20 miles to the Blue Ridge Parkway and Meadows of Dan\, 
 and convenient access to the nearby towns of Stuart\, Basset\,
  and city of Martinsville VA.  This online auction is being
  held in partnership with Rogers Realty and Auction in Stuar
 t VA. 
URL:https://mountainvalleyauctions.bwwsstaging.com/auctions/deta
 il/bw116910
SEQUENCE:1
END:VEVENT
END:VCALENDAR