BEGIN:VCALENDAR
VERSION:2.0
PRODID:-//ExpressionEngine Easy iCalendar plugin//NONSGML v2.0.1//EN
X-WR-TIMEZONE:America/New_York
X-WR-CALNAME:Upcoming Auctions
BEGIN:VEVENT
UID:118464
DTSTAMP:20240404T180000
DTSTART:20240404T180000
DTEND:20240501T180000
SUMMARY:Country Home In Monroe County Indiana
LOCATION:6030 W. Koontz Rd\, Bloomington\, IN 47403\, US
DESCRIPTION:Discover the perfect blend of country charm and modern conve
 nience in this remodeled 3-bedroom\, one bath country home\, n
 estled on just over 5 acres of serene land in the desirable 
 southwest side of Monroe County Indiana. This property offer
 s a unique opportunity to embrace a country lifestyle while 
 being conveniently close to Bloomington\, Indiana\, IU Campus\,
  and all the amenities of city life. This is an online only 
 auction held in partnership with Coffey Realty and Auction a
 nd closes May 1 @ 6 PM.
URL:https://mountainvalleyauctions.bwwsstaging.com/auctions/deta
 il/bw118464
SEQUENCE:1
END:VEVENT
END:VCALENDAR