BEGIN:VCALENDAR
VERSION:2.0
PRODID:-//ExpressionEngine Easy iCalendar plugin//NONSGML v2.0.1//EN
X-WR-TIMEZONE:America/New_York
X-WR-CALNAME:Upcoming Auctions
BEGIN:VEVENT
UID:118929
DTSTAMP:20240415T130000
DTSTART:20240415T130000
DTEND:20240515T130000
SUMMARY:Jordan on the James Real Estate Auction - North Prince Georg
 e VA
LOCATION:10425 Jordan Parkway\, North Prince George\, VA 23860\, US
DESCRIPTION:To settle the Dunfee Estate\, we are offering at online auct
 ion the real estate and improvements located at 10425 Jordan
  Parkway\, North Prince George VA 23860. This custom built 
 home sits on a 1.27 +/- acre waterfront lot in the Jordan On
  The James Subdivision. It offers lots of luxury features an
 d over 4\,400 sq ft of total living space. In the main house 
 it has 4 bedrooms\, 3 full baths\, and 2 half baths and in th
 e detached guest house it has 1 bedroom and 2 full baths. O
 ther features include a 2 car garage\, custom swimming pool\, 
 two decks\, screened in porch\, stamped concrete driveway\, and
  fountain. This property has some deferred maintenance and n
 eeds someone to love it again\, but it provides an incredible
  opportunity to own one of the premier properties on Jordan 
 Point. The online only auction will close May 15\, 2024 @ 
 1:00 PM.
URL:https://mountainvalleyauctions.bwwsstaging.com/auctions/deta
 il/bw118929
SEQUENCE:1
END:VEVENT
END:VCALENDAR