BEGIN:VCALENDAR
VERSION:2.0
PRODID:-//ExpressionEngine Easy iCalendar plugin//NONSGML v2.0.1//EN
X-WR-TIMEZONE:America/New_York
X-WR-CALNAME:Upcoming Auctions
BEGIN:VEVENT
UID:120742
DTSTAMP:20240515T130000
DTSTART:20240515T130000
DTEND:20240606T130000
SUMMARY:Two Bedroom Home On 0.74 +/- Acres In Weyers Cave VA
LOCATION:126 Wayside Dr\, Weyers Cave\, VA 24486\, US
DESCRIPTION:We are offering at online auction the real estate and impro
 vements located at 126 Wayside Dr\, Weyers Cave VA 24486. Thi
 s brick home sits on a spacious 0.74 +/- acre lot in a quie
 t neighborhood. It features 1\,166 sq ft of living space wit
 h 2 bedrooms\, 1 bath\, front porch and rear enclosed porch.
  The property also has a two story garage and shed. This 
 online only auction will close June 6\, 2024 @ 1:00 PM.
URL:https://mountainvalleyauctions.bwwsstaging.com/auctions/deta
 il/bw120742
SEQUENCE:1
END:VEVENT
END:VCALENDAR