BEGIN:VCALENDAR
VERSION:2.0
PRODID:-//ExpressionEngine Easy iCalendar plugin//NONSGML v2.0.1//EN
X-WR-TIMEZONE:America/New_York
X-WR-CALNAME:Upcoming Auctions
BEGIN:VEVENT
UID:121882
DTSTAMP:20240605T130000
DTSTART:20240605T130000
DTEND:20240710T130000
SUMMARY:215  +/- Acre Highland County VA Farm Offered In Two Tracts
LOCATION:119 Hevener Farm Dr\, Monterey\, VA 24465\, US
DESCRIPTION:We are offering at online auction a 215 +/- acre Highland C
 ounty VA farm. This property is being offered in two sepa
 rate tracts. Tract # 1 is 49.5 acres improved by a 1919 fa
 rmhouse\, large bank barn\, two poultry houses\, and numerous o
 utbuildings. Tract # 2 is 165.4 acres of pasture and timbe
 r land improved by sugar camp buildings and livestock shelte
 rs. This farm is zoned agriculture and located just west o
 f the town of Monterey VA off of Route 250. It features wo
 rld class panoramic views\, multiple springs and streams\, ex
 cellent pasture with fencing on three sides\, plenty of sugar
  maple trees and timber\, along with abundant wildlife and re
 creational opportunities. This property was part of the his
 toric Hevener Farm with a long history of maple sugar\, cattl
 e\, and poultry production.
URL:https://mountainvalleyauctions.bwwsstaging.com/auctions/deta
 il/bw121882
SEQUENCE:1
END:VEVENT
END:VCALENDAR