BEGIN:VCALENDAR
VERSION:2.0
PRODID:-//ExpressionEngine Easy iCalendar plugin//NONSGML v2.0.1//EN
X-WR-TIMEZONE:America/New_York
X-WR-CALNAME:Upcoming Auctions
BEGIN:VEVENT
UID:121937
DTSTAMP:20240625T190000
DTSTART:20240625T190000
DTEND:20240717T190000
SUMMARY:July Coin\, Tokens\, and Currency Auction
LOCATION:350 Bowman Road\, Dayton\, VA 22821\, US
DESCRIPTION:Online Only Auction Featuring Silver\, Coins\, Local Virgini
 a Store Tokens\, and Currency. This auction includes a large 
 collection of commemorative half dollars and the largest sto
 re token collection we have ever sold. We will be adding add
 itional lots over the next week so keep checking back as the
  auction grows. Shipping Available. Auction Closes July 17 B
 eginning @ 7:00 PM.
URL:https://mountainvalleyauctions.bwwsstaging.com/auctions/deta
 il/bw121937
SEQUENCE:1
END:VEVENT
END:VCALENDAR