BEGIN:VCALENDAR
VERSION:2.0
PRODID:-//ExpressionEngine Easy iCalendar plugin//NONSGML v2.0.1//EN
X-WR-TIMEZONE:America/New_York
X-WR-CALNAME:Upcoming Auctions
BEGIN:VEVENT
UID:123399
DTSTAMP:20240730T050000
DTSTART:20240730T050000
DTEND:20240829T170000
SUMMARY:Antique Tool Auction
LOCATION:231 Eisenhower Dr\, Broadway\, VA 22815\, US
DESCRIPTION:This is an online only auction for a large single owner col
 lection of antique and collectible tools. The Forefathers 
 Tool Museum contains the lifetime collection of Mr. David P
 eoples from Broadway VA. This collection includes many rare 
 and obscure hand tool tools including a large collection of 
 wrenches\, farm tools\, planes\, nail pullers\, saws\, hammers\, c
 obblers tools\, leather working tools\, and much more. In addi
 tion we are selling a 1994 Ford Ranger pickup truck with low
  miles. Almost 2000 tools selling in 1\,100 lots August 29 
 beginning at 5 PM. 
URL:https://mountainvalleyauctions.bwwsstaging.com/auctions/deta
 il/bw123399
SEQUENCE:1
END:VEVENT
END:VCALENDAR