BEGIN:VCALENDAR
VERSION:2.0
PRODID:-//ExpressionEngine Easy iCalendar plugin//NONSGML v2.0.1//EN
X-WR-TIMEZONE:America/New_York
X-WR-CALNAME:Upcoming Auctions
BEGIN:VEVENT
UID:124031
DTSTAMP:20240715T070000
DTSTART:20240715T070000
DTEND:20240912T190000
SUMMARY:Northern VA Fall Equipment Consignment Auction
LOCATION:3154 Gaskins Ln\, Catlett\, VA 20119\, US
DESCRIPTION:Consignment auction featuring agricultural\, heavy equipment\,
  construction equipment and tools\, vehicles\, trucks\, trailer
 s\, and powersports. This online only auction is being held 
 at 3154 Gaskins Ln\, Catlett VA 20119 and will close Septembe
 r 12\, 2024.  Pickup is September 13-14.
URL:https://mountainvalleyauctions.bwwsstaging.com/auctions/deta
 il/bw124031
SEQUENCE:1
END:VEVENT
END:VCALENDAR