BEGIN:VCALENDAR
VERSION:2.0
PRODID:-//ExpressionEngine Easy iCalendar plugin//NONSGML v2.0.1//EN
X-WR-TIMEZONE:America/New_York
X-WR-CALNAME:Upcoming Auctions
BEGIN:VEVENT
UID:125293
DTSTAMP:20240806T100000
DTSTART:20240806T100000
DTEND:20240828T130000
SUMMARY:3 Bedroom Home and Commercial Garage Zoned B2 Harrisonburg V
 A
LOCATION:1306 Virginia Ave\, Harrisonburg\, VA 22802\, US
DESCRIPTION:We are offering at online auction the real estate and impro
 vements located at 1306 Virginia Ave\, Harrisonburg VA 22802.
  This income producing property is zoned B2 and includes a 3
  bedroom house plus a commercial garage building and storage
  shed on 0.41 +/- acres. This online only auction will clo
 se August 28\, 2024 @ 1:00 PM.
URL:https://mountainvalleyauctions.bwwsstaging.com/auctions/deta
 il/bw125293
SEQUENCE:1
END:VEVENT
END:VCALENDAR