BEGIN:VCALENDAR
VERSION:2.0
PRODID:-//ExpressionEngine Easy iCalendar plugin//NONSGML v2.0.1//EN
X-WR-TIMEZONE:America/New_York
X-WR-CALNAME:Upcoming Auctions
BEGIN:VEVENT
UID:125335
DTSTAMP:20240907T130000
DTSTART:20240907T130000
DTEND:20240907T140000
SUMMARY:VA Is For Boer Goat Lovers Sale
LOCATION:4808 S Valley Pike\, Harrisonburg\, VA 22801\, US
DESCRIPTION:Boer Goat Auction Featuring 90+ full blood and percentage Bo
 er Goats from some of the best breeders in the country. This
  is a simulcast auction with live and online bidding.  Sept
 ember 7\, 2024 @1 PM 4808 South Valley Pike\, Harrisonburg VA
  22801
URL:https://mountainvalleyauctions.bwwsstaging.com/auctions/deta
 il/bw125335
SEQUENCE:1
END:VEVENT
END:VCALENDAR