BEGIN:VCALENDAR
VERSION:2.0
PRODID:-//ExpressionEngine Easy iCalendar plugin//NONSGML v2.0.1//EN
X-WR-TIMEZONE:America/New_York
X-WR-CALNAME:Upcoming Auctions
BEGIN:VEVENT
UID:125351
DTSTAMP:20240926T170000
DTSTART:20240926T170000
DTEND:20240927T220000
SUMMARY:Dayspring 2024 Inside Auction
LOCATION:{location}
DESCRIPTION:Join us for Dayspring Mennonite Church's 22nd Annual Benefi
 t Auction and Bake Sale on Friday\, September 27\, 2024 @ 5 P
 M. Location: Dayspring Mennonite Church\, 5522 Catlett Road\, 
 Midland VA  22728 Proceeds: 100% of the proceeds go to the 
 non profit organizations: New Horizon Ministries\, Good Life 
 Ministries\, and Life First Ministries.
URL:https://mountainvalleyauctions.bwwsstaging.com/auctions/deta
 il/bw125351
SEQUENCE:1
END:VEVENT
END:VCALENDAR