BEGIN:VCALENDAR
VERSION:2.0
PRODID:-//ExpressionEngine Easy iCalendar plugin//NONSGML v2.0.0//EN
X-WR-TIMEZONE:America/New_York
X-WR-CALNAME:Upcoming Auctions
BEGIN:VEVENT
UID:125434
DTSTAMP:20240910T190000
DTSTART:20240910T190000
DTEND:20240924T190000
SUMMARY:Bud and Dorothy Simmers Downsizing Auction
LOCATION:1582 N. River Rd\, Mt Crawford VA\, VA 22841\, US
DESCRIPTION:Online only auction for antiques\, farm equipment\, tools\, toy
 s\, fine furniture\, art and other household items.  All of
  these items come from a clean smoke free home. This aucti
 on closes Tuesday September 24 beginning at 7 PM with picku
 p on September 25-26. All items located in Mt Crawford VA.
URL:https://mountainvalleyauctions.bwwsstaging.com/auctions/deta
 il/bw125434
SEQUENCE:1
END:VEVENT
END:VCALENDAR