BEGIN:VCALENDAR
VERSION:2.0
PRODID:-//ExpressionEngine Easy iCalendar plugin//NONSGML v2.0.0//EN
X-WR-TIMEZONE:America/New_York
X-WR-CALNAME:Upcoming Auctions
BEGIN:VEVENT
UID:126054
DTSTAMP:20240828T190000
DTSTART:20240828T190000
DTEND:20240917T190000
SUMMARY:September Gold\, Silver\, Coins and Tokens Auction
LOCATION:350 Bowman Road\, Dayton\, VA 22821\, US
DESCRIPTION:Online Only Auction Featuring Gold\, Silver\, Coins\, and Local
  Virginia Store Tokens. This auction includes a large collec
 tion of commemorative half dollars and modern commemorative 
 silver dollars\, graded gold coins\, high grade Morgan silver
  dollars\, silver bullion\, silver coins\, large and small cent
 s\, and a lot of local store tokens. We will be adding additi
 onal lots over the next week so keep checking back as the au
 ction grows. Shipping Available. Auction Closes September 17
  Beginning @ 7:00 PM.
URL:https://mountainvalleyauctions.bwwsstaging.com/auctions/deta
 il/bw126054
SEQUENCE:1
END:VEVENT
END:VCALENDAR