BEGIN:VCALENDAR
VERSION:2.0
PRODID:-//ExpressionEngine Easy iCalendar plugin//NONSGML v2.0.1//EN
X-WR-TIMEZONE:America/New_York
X-WR-CALNAME:Upcoming Auctions
BEGIN:VEVENT
UID:126459
DTSTAMP:20240826T010000
DTSTART:20240826T010000
DTEND:20240926T130000
SUMMARY:4 Bedroom 3 Bath Brick Ranch Home Near Dayton VA
LOCATION:2256 West Dry River Rd\, Dayton\, VA 22821\, US
DESCRIPTION:We are offering at online auction the real estate and impro
 vements located at 2256 West Dry River Rd\, Dayton VA 22821. 
 This move in ready home sits on a 0.49 +/- acre lot in the
  Clover Hill area.  It offers a terrific location in the 
 Turner Ashby HIgh School and Ottobine Elementary school dis
 trict just minutes from the towns of Bridgewater and Dayton 
 yet situated in a quiet rural area surrounded by the idylli
 c farmland that western Rockingham County is so well known f
 or. This house features 2\,900 sq ft of living space with 4
  bedrooms\, 3 baths plus a large deck\, paved driveway\, and 
 garden shed. The online only auction will close September 
 26\, 2024 @ 1:00 PM.
URL:https://mountainvalleyauctions.bwwsstaging.com/auctions/deta
 il/bw126459
SEQUENCE:1
END:VEVENT
END:VCALENDAR