BEGIN:VCALENDAR
VERSION:2.0
PRODID:-//ExpressionEngine Easy iCalendar plugin//NONSGML v2.0.0//EN
X-WR-TIMEZONE:America/New_York
X-WR-CALNAME:Upcoming Auctions
BEGIN:VEVENT
UID:126642
DTSTAMP:20240828T190000
DTSTART:20240828T190000
DTEND:20241017T190000
SUMMARY:Shenandoah Valley Fall Consignment Auction
LOCATION:10298 McGaheysville Rd\, McGaheysville\, VA 22840\, US
DESCRIPTION:Fall Consignment Auction featuring agricultural\, heavy equip
 ment\, construction equipment and tools\, vehicles\, trucks\, tr
 ailers\, and powersports. This auction is being held at 10298
  McGaheysville Rd\, McGaheysville VA 22840. Call or message 
 us if you have vehicles\, equipment\, farm machinery or tools 
 to sell. Bidding closes October 17 beginning at 7 PM. Item
  pickup is October 18\, 19\, and 21 from 9 AM to 6 PM.
URL:https://mountainvalleyauctions.bwwsstaging.com/auctions/deta
 il/bw126642
SEQUENCE:1
END:VEVENT
END:VCALENDAR