BEGIN:VCALENDAR
VERSION:2.0
PRODID:-//ExpressionEngine Easy iCalendar plugin//NONSGML v2.0.1//EN
X-WR-TIMEZONE:America/New_York
X-WR-CALNAME:Upcoming Auctions
BEGIN:VEVENT
UID:126644
DTSTAMP:20241108T170000
DTSTART:20241108T170000
DTEND:20241108T180000
SUMMARY:Blue Grass Ruritan Consignment Auction
LOCATION:2724 Blue Grass Valley Road\, Blue Grass\, VA 24413\, US
DESCRIPTION:Blue Grass Ruritan Consignment Auction featuring vehicles\, m
 achinery\, tools\, furniture\, lawn and garden and more. This i
 s a simulcast live and online auction being held at the Blue
  Grass Ruritan building in Blue Grass VA. Now accepting cons
 ignments! Simulcast Live In Person and Online Auction is No
 vember 8 beginning at 5 PM.
URL:https://mountainvalleyauctions.bwwsstaging.com/auctions/deta
 il/bw126644
SEQUENCE:1
END:VEVENT
END:VCALENDAR